BEGIN:VCALENDAR
VERSION:2.0
PRODID:-//Wordpress//Event Calendar//DE
CALSCALE:GREGORIAN
METHOD:PUBLISH
BEGIN:VEVENT
UID:15092@www.tus-quelle.de
DTSTAMP:20260421T103307
DTSTART:20260429T180000
DTEND:20260429T190000
SUMMARY:Volleyball Teamtreffen Damen
DESCRIPTION:

Abteilung: Abt. Volleyball
LOCATION:Vereinsheim
END:VEVENT
END:VCALENDAR
