BEGIN:VCALENDAR
VERSION:2.0
PRODID:-//Wordpress//Event Calendar//DE
CALSCALE:GREGORIAN
METHOD:PUBLISH
BEGIN:VEVENT
UID:15100@www.tus-quelle.de
DTSTAMP:20260423T124324
DTSTART:20260902T190000
DTEND:20260902T200000
SUMMARY:Volleyballkreisvorstand
DESCRIPTION:

Abteilung: Abt. Volleyball
LOCATION:Vereinsheim
END:VEVENT
END:VCALENDAR
